BEGIN:VCALENDAR
VERSION:2.0
PRODID:https://www.tietoevry.com/
BEGIN:VEVENT
UID:https://www.tietoevry.com/en/events/2021/ignite-2021/
DTSTAMP:20260423T020437Z
DTSTART:20210921T123000Z
DTEND:20210923T193000Z
SUMMARY:Ignite Talks 2021
DESCRIPTION:Welcome to Ignite Talks, an event that'll last for three days, with more than 50 international speakers, and 10 000 (!) aticipated participants from all over the world. Enjoy the Ignite Talks, get inspired, and make the shift necessary to reach a smarter and greener world. ---------- Join TietoEVRY sessions:  Towards a circular economy: Technology as an enabler for transformation and sustainability, with Kimmo Alkio, President & CEO TietoEVRY, together with a few other industry leaders. September 21st, 18:30 - 19:00 CEST Gain valuable insights on how technology can lead the way to a circular economy ---------- Time to leverage the vision of Industry 4.0, with Christian Pedersen, Managing Partner, TietoEVRY Norway together with Volvo Trucks and NOROG.  September 22nd, 17:00 - 17:30  Learn how some of our amazing clients have leveraged Industry 4.0 For latest updates; Please visit https://www.tietoevry.com/en/events/2021/ignite-2021/  
LOCATION:Online 
END:VEVENT
END:VCALENDAR
