BEGIN:VCALENDAR
VERSION:2.0
PRODID:https://www.tietoevry.com/
BEGIN:VEVENT
UID:https://www.tietoevry.com/dk/events/2025/tietoevry-esdh-connect-2025/
DTSTAMP:20260422T163126Z
DTSTART:20250508T080000Z
DTEND:20250509T120000Z
SUMMARY:Public 360 ESDH Connect 2025
DESCRIPTION:Public 360° ESDH Connect
LOCATION:Marienlyst Strandhotel
END:VEVENT
END:VCALENDAR
