BEGIN:VCALENDAR
VERSION:2.0
PRODID:https://www.tietoevry.com/
BEGIN:VEVENT
UID:https://www.tietoevry.com/dk/events/2025/tietoevry-360-esdh-connect-2025-fo/
DTSTAMP:20260422T175358Z
DTSTART:20250507T130000Z
DTEND:20250509T120000Z
SUMMARY:Public 360° ESDH Connect 2025 (Færøerne)
DESCRIPTION:Tietoevry 360° ESDH Connect 2025
LOCATION:Marienlyst Strandhotel
END:VEVENT
END:VCALENDAR
