BEGIN:VCALENDAR
VERSION:2.0
PRODID:https://www.tietoevry.com/
BEGIN:VEVENT
UID:https://www.tietoevry.com/dk/events/2023/360-esdh-connect-2023/
DTSTAMP:20260423T171750Z
DTSTART:20230228T080000Z
DTEND:20230301T120000Z
SUMMARY:360° ESDH Connect 2023
LOCATION:Marienlyst Strandhotel
END:VEVENT
END:VCALENDAR
