BEGIN:VCALENDAR
VERSION:2.0
PRODID:https://www.tietoevry.com/
BEGIN:VEVENT
UID:https://www.tietoevry.com/dk/events/2021/360-esdh-connect-2022/
DTSTAMP:20260423T183734Z
DTSTART:20220125T074500Z
DTEND:20220126T100000Z
SUMMARY:360° ESDH Connect 2022
LOCATION:Marienlyst Strandhotel
END:VEVENT
END:VCALENDAR
